BEGIN:VCALENDAR
PRODID:-//AT Content Types//AT Event//EN
VERSION:2.0
METHOD:PUBLISH
BEGIN:VEVENT
DTSTAMP:20260420T080842Z
CREATED:20130216T123452Z
UID:ATEvent-1ccec3c4e86f4f72838e1b39405cf5cc
LAST-MODIFIED:20140801T090409Z
SUMMARY:IndustrialGreenTec
DTSTART:20130408T080000Z
DTEND:20130412T160000Z
DESCRIPTION:Internationale Leitmesse für Umwelttechnologien
LOCATION:Messe Hannover
URL:http://www.hannovermesse.de/de/ueber-die-messe/programm/leitmessen/industrialgreentec
CLASS:PUBLIC
END:VEVENT
END:VCALENDAR
