BEGIN:VCALENDAR
PRODID:-//AT Content Types//AT Event//EN
VERSION:2.0
METHOD:PUBLISH
BEGIN:VEVENT
DTSTAMP:20260422T180317Z
CREATED:20120817T075815Z
UID:ATEvent-b9ea227b1cb24d18ad26ceab3f9fb8c5
LAST-MODIFIED:20120817T092001Z
SUMMARY:3. Deutsch-Polnisches Energieforum
DTSTART:20120905T075500Z
DTEND:20120906T075500Z
DESCRIPTION:Akzeptanz und Wirtschaftlichkeit lokaler Energieprojekte \
 nim deutsch-polnischen Vergleich
LOCATION:Ostritz
CONTACT:Agata Tomczak\, agata.tomczak@dreberis.com
CLASS:PUBLIC
END:VEVENT
END:VCALENDAR
